BEGIN:VCALENDAR
VERSION:2.0
PRODID:-//Squarespace Inc/Squarespace 6//v6//EN
BEGIN:VEVENT
UID:5ba8705b53450a4c37314db2@squarespace.com
DTSTAMP:20180924T050532Z
DTSTART:20180926T203000Z
DTEND:20180926T233000Z
SUMMARY:TWILIGHT GOLF
END:VEVENT
END:VCALENDAR
