BEGIN:VCALENDAR
VERSION:2.0
PRODID:-//Squarespace Inc/Squarespace 6//v6//EN
BEGIN:VEVENT
UID:5ba86b31419202c9a870b573@squarespace.com
DTSTAMP:20180924T044740Z
DTSTART:20180929T153000Z
DTEND:20180929T223000Z
SUMMARY:Club Day
GEO:-45.808577;170.601941
LOCATION:port chalmers golf club
END:VEVENT
END:VCALENDAR
